BEGIN:VCALENDAR
VERSION:2.0
PRODID:-//GOH Productions - ECPv5.2.1//NONSGML v1.0//EN
CALSCALE:GREGORIAN
METHOD:PUBLISH
X-WR-CALNAME:GOH Productions
X-ORIGINAL-URL:https://gohproductions.org
X-WR-CALDESC:Events for GOH Productions
BEGIN:VTIMEZONE
TZID:America/New_York
BEGIN:DAYLIGHT
TZOFFSETFROM:-0500
TZOFFSETTO:-0400
TZNAME:EDT
DTSTART:20160313T070000
END:DAYLIGHT
BEGIN:STANDARD
TZOFFSETFROM:-0400
TZOFFSETTO:-0500
TZNAME:EST
DTSTART:20161106T060000
END:STANDARD
END:VTIMEZONE
BEGIN:VEVENT
DTSTART;TZID=America/New_York:20160326T070000
DTEND;TZID=America/New_York:20160326T203000
DTSTAMP:20260419T151805
CREATED:20160309T151558Z
LAST-MODIFIED:20160309T151558Z
UID:1157-1458975600-1459024200@gohproductions.org
SUMMARY:THE NEW WORLD SYMPHONY: DVORAK IN AMERICA
DESCRIPTION:DVORAK IN AMERICA AT LA MAMA IN NY \nPresented by La MaMa in association with GOH Productions and Dvorak American Heritage Association \n \nCZECHOSLOVAK-AMERICAN MARIONETTE THEATRE \nMarch 10 – March 27\, 2016\nThursday to Saturday at 7pm; Sunday at 4pm \nEllen Stewart Theatre | 66 East 4th Street (2nd Floor)\, NYC \nAdult: $25 / Student & Seniors: $20; Benefit Tickets on March 18th: [$55\, $77\, $99] \nTICKETS
URL:https://gohproductions.org/event/the-new-world-symphony-dvorak-in-america-3-2016-03-26/
LOCATION:La MaMa\, 74 E 4th Street\, New York\, NY\, 10003\, United States
END:VEVENT
END:VCALENDAR