BEGIN:VCALENDAR
VERSION:2.0
PRODID:-//GOH Productions - ECPv5.2.1//NONSGML v1.0//EN
CALSCALE:GREGORIAN
METHOD:PUBLISH
X-WR-CALNAME:GOH Productions
X-ORIGINAL-URL:https://gohproductions.org
X-WR-CALDESC:Events for GOH Productions
BEGIN:VTIMEZONE
TZID:America/New_York
BEGIN:DAYLIGHT
TZOFFSETFROM:-0500
TZOFFSETTO:-0400
TZNAME:EDT
DTSTART:20180311T070000
END:DAYLIGHT
BEGIN:STANDARD
TZOFFSETFROM:-0400
TZOFFSETTO:-0500
TZNAME:EST
DTSTART:20181104T060000
END:STANDARD
END:VTIMEZONE
BEGIN:VEVENT
DTSTART;TZID=America/New_York:20181013T143000
DTEND;TZID=America/New_York:20181013T160000
DTSTAMP:20260421T035530
CREATED:20181001T185619Z
LAST-MODIFIED:20181001T185619Z
UID:1381-1539441000-1539446400@gohproductions.org
SUMMARY:OLDRICH & BOZENA\, THE TRUE STORY
DESCRIPTION:Czechoslovak American Marionette Theatre in \n“Duke Oldrich & Washerwoman Bozena\, the True Story: A Historical Comedye in Three Acts”\nOctober 11-27\, 2018: Jan Hus Church\, 351 East 74th Street \nWed-Fri @ 7:00 PM  \nSat  OCT 17\, 20\, 27 @ 2:30 PM    \nIndividual tickets:  $19 general admission\, $14 seniors\, students \nBox Office:  https://camtjanhus.bpt.me  800-838-3006 (Brown Paper Tickets) \nRunning time: 94 minutes.
URL:https://gohproductions.org/event/oldrich-bozena-the-true-story-2/
LOCATION:Jan Hus House\, 351 East 74th St  (bet. 1st and 2nd Ave)\,  New York City\, NY\, United States
END:VEVENT
END:VCALENDAR