BEGIN:VCALENDAR
VERSION:2.0
PRODID:-//GOH Productions - ECPv5.2.1//NONSGML v1.0//EN
CALSCALE:GREGORIAN
METHOD:PUBLISH
X-WR-CALNAME:GOH Productions
X-ORIGINAL-URL:https://gohproductions.org
X-WR-CALDESC:Events for GOH Productions
BEGIN:VTIMEZONE
TZID:America/New_York
BEGIN:DAYLIGHT
TZOFFSETFROM:-0500
TZOFFSETTO:-0400
TZNAME:EDT
DTSTART:20180311T070000
END:DAYLIGHT
BEGIN:STANDARD
TZOFFSETFROM:-0400
TZOFFSETTO:-0500
TZNAME:EST
DTSTART:20181104T060000
END:STANDARD
END:VTIMEZONE
BEGIN:VEVENT
DTSTART;TZID=America/New_York:20181026T193000
DTEND;TZID=America/New_York:20181026T210000
DTSTAMP:20260422T124402
CREATED:20181022T201708Z
LAST-MODIFIED:20181120T143315Z
UID:1390-1540582200-1540587600@gohproductions.org
SUMMARY:GREY ROCK benefit for Remote Theater Project\, NYC
DESCRIPTION:Join us for a wonderful evening of music and a presentation of our newest theater project\, GREY ROCK\, by REMOTE THEATER PROJECT. \n \nGET TICKETS
URL:https://gohproductions.org/event/grey-rock-benefit-for-remote-theater-project-nyc/
END:VEVENT
END:VCALENDAR